BEGIN:VCALENDAR
VERSION:2.0
PRODID:-//Tukios.com/
BEGIN:VEVENT
UID:f091ad4f-9b8d-4fea-861c-b1f2813054be@www.beltonstroup.com
DTSTAMP:20260423T165950Z
DTSTART:20260424T220000Z
DTEND:20260425T000000Z
SUMMARY:Visitation
DESCRIPTION:
URL:https://www.beltonstroup.com/obituaries/james-goins
LOCATION: 422 E. Dayton-Yellow Springs Rd.  Fairborn OH 45324
GEO:39.7855387;-84.0137701
END:VEVENT
END:VCALENDAR