BEGIN:VCALENDAR
VERSION:2.0
PRODID:-//Tukios.com/
BEGIN:VEVENT
UID:c50e17ef-dd78-4624-ac00-c674d7cbb170@www.beltonstroup.com
DTSTAMP:20260423T170802Z
DTSTART:20260425T140000Z
DTEND:20260425T150000Z
SUMMARY:Memorial Service
DESCRIPTION:
URL:https://www.beltonstroup.com/obituaries/james-goins
LOCATION:Christ Episcopal Church -- Xenia, OH 68 E. Church Street  Xenia 
	OH 45385
GEO:39.6875498;-83.9286045
END:VEVENT
END:VCALENDAR