BEGIN:VCALENDAR
VERSION:2.0
PRODID:-//Tukios.com/
BEGIN:VEVENT
UID:f1bc0546-aaa6-4174-b6ea-d7e054482579@www.beltonstroup.com
DTSTAMP:20260421T000928Z
DTSTART:20260426T180000Z
DTEND:20260426T200000Z
SUMMARY:Celebration of Life
DESCRIPTION:
URL:https://www.beltonstroup.com/obituaries/patricia-chaney
LOCATION:The Clubhouse at Park Hills Crossing 565 Park Hills Crossing  
	Fairborn OH 45324
GEO:39.7783122;-84.0119627
END:VEVENT
END:VCALENDAR