BEGIN:VCALENDAR
VERSION:2.0
PRODID:-//Tukios.com/
BEGIN:VEVENT
UID:967cce80-c7da-4c7d-ae68-7e90d45593dd@www.beltonstroup.com
DTSTAMP:20260424T185856Z
DTSTART:20260502T133000Z
DTEND:20260502T150000Z
SUMMARY:Visitation
DESCRIPTION:
URL:https://www.beltonstroup.com/obituaries/patricia-wilder
LOCATION:Belton-Stroup Funeral Home 422 East Dayton-Yellow Springs Road  
	Fairborn OH 45324
GEO:39.7855387;-84.0137701
END:VEVENT
END:VCALENDAR