BEGIN:VCALENDAR
VERSION:2.0
PRODID:-//Tukios.com/
BEGIN:VEVENT
UID:f7260f46-3191-43f0-a9ed-b2ec0aec1aec@www.beltonstroup.com
DTSTAMP:20260424T185701Z
DTSTART:20260502T150000Z
DTEND:20260502T160000Z
SUMMARY:Funeral Service
DESCRIPTION:
URL:https://www.beltonstroup.com/obituaries/patricia-wilder
LOCATION:Belton-Stroup Funeral Home 422 East Dayton-Yellow Springs Road  
	Fairborn OH 45324
GEO:39.7855387;-84.0137701
END:VEVENT
END:VCALENDAR