BEGIN:VCALENDAR
VERSION:2.0
PRODID:-//Tukios.com/
BEGIN:VEVENT
UID:ebf2f216-4183-4e42-992f-42aa6e1dc509@www.beltonstroup.com
DTSTAMP:20260422T002114Z
DTSTART:20260424T150000Z
DTEND:20260424T170000Z
SUMMARY:Visitation
DESCRIPTION:
URL:https://www.beltonstroup.com/obituaries/richard-burns
LOCATION:Belton-Stroup Funeral Home 422 East Dayton-Yellow Springs Road  
	Fairborn OH 45324
GEO:39.7855387;-84.0137701
END:VEVENT
END:VCALENDAR