BEGIN:VCALENDAR
VERSION:2.0
PRODID:-//Tukios.com/
BEGIN:VEVENT
UID:659cc595-abea-4b5c-8f51-d863b099b6c4@www.beltonstroup.com
DTSTAMP:20260422T002928Z
DTSTART:20260424T170000Z
DTEND:20260424T180000Z
SUMMARY:Funeral Service
DESCRIPTION:
URL:https://www.beltonstroup.com/obituaries/richard-burns
LOCATION:Belton-Stroup Funeral Home 422 East Dayton-Yellow Springs Road  
	Fairborn OH 45324
GEO:39.7855387;-84.0137701
END:VEVENT
END:VCALENDAR